BEGIN:VCALENDAR
VERSION:2.0
PRODID:-//eventon.com NONSGML v1.0//EN
CALSCALE:GREGORIAN
METHOD:PUBLISH
BEGIN:VEVENT
UID:69e742fc5ec8d
DTSTAMP:20260421T092724Z
DTSTART:20230901T180000Z
DTEND:20230903T140000Z
LOCATION:
SUMMARY:Rock im Wald 2023
DESCRIPTION:Das legendäre Rock- und Bluesfestival in den Gehrener Bergen\n
 https://waldbuehne-gehren.de/events/rock-im-wald-2023/
URL:https://waldbuehne-gehren.de/events/rock-im-wald-2023/
END:VEVENT
END:VCALENDAR