BEGIN:VCALENDAR
VERSION:2.0
PRODID:-//eventon.com NONSGML v1.0//EN
CALSCALE:GREGORIAN
METHOD:PUBLISH
BEGIN:VEVENT
UID:69e77e9da0dd4
DTSTAMP:20260421T134149Z
DTSTART:20260510T120000Z
DTEND:20260510T215000Z
LOCATION:
SUMMARY:Blasmusik zum Muttertag
DESCRIPTION:Frühling\,  Natur\,  Blasmusik\,  Muttertag. Der 10. Mai 2026 
 auf der Waldbühne Gehren. Mit zünftiger Blasmusik der Berstetaler Blasmus
 ikanten.\nhttps://waldbuehne-gehren.de/events/blasmusik-zum-muttertag/
URL:https://waldbuehne-gehren.de/events/blasmusik-zum-muttertag/
END:VEVENT
END:VCALENDAR