BEGIN:VCALENDAR
VERSION:2.0
PRODID:-//eventon.com NONSGML v1.0//EN
CALSCALE:GREGORIAN
METHOD:PUBLISH
BEGIN:VEVENT
UID:69e756c3437ba
DTSTAMP:20260421T105147Z
DTSTART:20260523T180000Z
DTEND:20260523T215000Z
LOCATION:
SUMMARY:Jugendliebe im Frühling
DESCRIPTION:Die legendäre Party für alle ab 25\nhttps://waldbuehne-gehren
 .de/events/jugendliebe-im-fruehling-4/
URL:https://waldbuehne-gehren.de/events/jugendliebe-im-fruehling-4/
END:VEVENT
END:VCALENDAR