BEGIN:VCALENDAR
VERSION:2.0
PRODID:-//eventon.com NONSGML v1.0//EN
CALSCALE:GREGORIAN
METHOD:PUBLISH
BEGIN:VEVENT
UID:69e7568300ddc
DTSTAMP:20260421T105043Z
DTSTART:20260607T130000Z
DTEND:20260607T215000Z
LOCATION:
SUMMARY:Das große Kinderfest
DESCRIPTION:DIE WELT IST BUNTER\,  KNALLIGER UND LEBENDIGER GEWORDEN. Mitre
 ißend\,  professionell und voller Herzblut: Frank & seine Freunde garantie
 ren unvergessliche Erlebnisse für die ganze Familie – und bringen Kinder
  wie Erwachsene gleichermaßen in Bewegung. Denn; bei unseren Shows wird da
 s Publikum zum Star – Kinder\,  Eltern\,  Großeltern; singen\,  tanzen u
 nd machen[..]\nhttps://waldbuehne-gehren.de/events/das-grosse-kinderfest/
URL:https://waldbuehne-gehren.de/events/das-grosse-kinderfest/
END:VEVENT
END:VCALENDAR