BEGIN:VCALENDAR
VERSION:2.0
PRODID:-//eventon.com NONSGML v1.0//EN
CALSCALE:GREGORIAN
METHOD:PUBLISH
BEGIN:VEVENT
UID:69e77e441b81d
DTSTAMP:20260421T134020Z
DTSTART:20260725T180000Z
DTEND:20260725T215000Z
LOCATION:
SUMMARY:LEGENDEN - Ostrock +Klassik
DESCRIPTION:"LEGENDEN" - Ostrock + Klassik. Special Guest: Mike Kilian„LE
 GENDEN“ – Ostrock + Klassik. Special Guest: Mike KilianNach dem großen
  Erfolg im letzten Jahr\,  bereits zum dritten Mal präsentieren wir Ostroc
 k + Klassik auf der Waldbühne Gehren.Erleben Sie große Hits im sommerlich
 en Open-Air-Ambiente der Gehrener Waldbühne\,  Hits von Stern Meißen\,  K
 arat\, [..]\nhttps://waldbuehne-gehren.de/events/legenden-ostrock-klassik-3
 /
URL:https://waldbuehne-gehren.de/events/legenden-ostrock-klassik-3/
END:VEVENT
END:VCALENDAR