BEGIN:VCALENDAR
VERSION:2.0
PRODID:-//eventon.com NONSGML v1.0//EN
CALSCALE:GREGORIAN
METHOD:PUBLISH
BEGIN:VEVENT
UID:69e7566c69387
DTSTAMP:20260421T105020Z
DTSTART:20260809T140000Z
DTEND:20260809T215000Z
LOCATION:
SUMMARY:Inge Borg
DESCRIPTION:NEUE SHOW: Ausziehen! Wieso\,  ich wohn doch hier. Die Grand Da
 me des Radeberger Biertheaters ist wieder unterwegs\,  mit sich\,  mit all 
 ihren Geschichten und jeder Menge Handgepäck im Erlebniskoffer.Und zu beri
 chten haben wir ja alle viel und jeder kann aus der Plaudertasche...reden\,
   reden\,  reden ...Aber bei Inge lohnt es sich[..]\nhttps://waldbuehne-geh
 ren.de/events/inge-borg-2/
URL:https://waldbuehne-gehren.de/events/inge-borg-2/
END:VEVENT
END:VCALENDAR