BEGIN:VCALENDAR
VERSION:2.0
PRODID:-//eventon.com NONSGML v1.0//EN
CALSCALE:GREGORIAN
METHOD:PUBLISH
BEGIN:VEVENT
UID:69e7567c31216
DTSTAMP:20260421T105036Z
DTSTART:20260828T180000Z
DTEND:20260830T140000Z
LOCATION:
SUMMARY:Rock im Wald 2026
DESCRIPTION:Das legendäre Rock- und Bluesfestival in den Gehrener Bergen K
 lick für alle Infos\nhttps://waldbuehne-gehren.de/events/rock-im-wald-2026
 /
URL:https://waldbuehne-gehren.de/events/rock-im-wald-2026/
END:VEVENT
END:VCALENDAR