BEGIN:VCALENDAR
VERSION:2.0
PRODID:-//eventon.com NONSGML v1.0//EN
CALSCALE:GREGORIAN
METHOD:PUBLISH
BEGIN:VEVENT
UID:69e756d2c4b71
DTSTAMP:20260421T105202Z
DTSTART:20260918T150000Z
DTEND:20260918T215000Z
LOCATION:
SUMMARY:Laternenabenteuer im Märchenwald
DESCRIPTION:Ein herbstliches Spektakel für Kinder\,  ein Fest für Eltern 
 und Großeltern. Mit Laternenwanderung durch den Herbstwald\,  spannenden G
 eschichten und Lagerfeuer. 17 Uhr startet das bunte Treiben an der Waldbüh
 ne\,  Daniel wird alle abenteuerlustigen Kinder bespaßen. Später geht es 
 zu einer abenteuerlichen Wanderung mit Lampions durch die Gehrener Berge. D
 ort wartet[..]\nhttps://waldbuehne-gehren.de/events/laternenabenteuer-im-ma
 erchenwald-copy-2/
URL:https://waldbuehne-gehren.de/events/laternenabenteuer-im-maerchenwald-copy-2/
END:VEVENT
END:VCALENDAR