BEGIN:VCALENDAR
VERSION:2.0
PRODID:-//eventon.com NONSGML v1.0//EN
CALSCALE:GREGORIAN
METHOD:PUBLISH
BEGIN:VEVENT
UID:69e756e62822d
DTSTAMP:20260421T105222Z
DTSTART:20261107T190000Z
DTEND:20261107T225000Z
LOCATION:
SUMMARY:Jugendliebe im Herbst
DESCRIPTION:Drinnen. In der Gaststätte Raunigk!\nhttps://waldbuehne-gehren
 .de/events/jugendliebe-im-herbst-4/
URL:https://waldbuehne-gehren.de/events/jugendliebe-im-herbst-4/
END:VEVENT
END:VCALENDAR